BEGIN:VCALENDAR
VERSION:2.0
PRODID:-//eventon.com NONSGML v1.0//EN
CALSCALE:GREGORIAN
METHOD:PUBLISH
BEGIN:VEVENT
UID:69e9fda17c062
DTSTAMP:20260423T130817
DTSTART:20250501T180000Z
DTEND:20250504T014500Z
TZID:Europe/Berlin
LOCATION:
SUMMARY:Quest Anders 2025 : 20Y Ost Anders Festival
DESCRIPTION:QUEST Anders : 20 Jahre Ost Anders Festival am 01.-03.Mai 2025 in der Kulturwerkstatt Auf AEG. Seit 20 Jahren bilden wir transkulturelle Brücken zwischen Nürnberg und Osteuropa. Do.01.05. &#8211; ab 18:30 Uhr &#8211; Vernissage zur Ausstellung &#8211; Analog + Digital im Foyer + Kleiner Saal &#8211; Ost Anders Quest &#8211;[..]\nhttps://ostanders.de/events/ost-anders-2025/
URL:https://ostanders.de/events/ost-anders-2025/
END:VEVENT
END:VCALENDAR