BEGIN:VCALENDAR
VERSION:2.0
PRODID:-//eventon.com NONSGML v1.0//EN
CALSCALE:GREGORIAN
METHOD:PUBLISH
BEGIN:VEVENT
UID:69e9e206b2a0b
DTSTAMP:20260423T111030
DTSTART:20230520T210000Z
DTEND:20230520T140000Z
TZID:Europe/Berlin
LOCATION:
SUMMARY:DIASPORA RECORDS : KOSTA\,  SKOTOBASE & HEAVY MENTAL
DESCRIPTION:Diaspora Records präsentiert 3 aufsteigende Rapper aus Berlin\,  München und Nürnberg auf der Bühne des Ost Anders Festivals 2023 am 20. Mai in der Kulturwerkstatt AUF AEG Kosta | Skotobase | Heavy Mental Alle 3 kommen aus der Ukraine und rappen auf english und deutsch\,  russisch und ukrainisch. Jeder hat[..]\nhttps://ostanders.de/events/diaspora-records/
URL:https://ostanders.de/events/diaspora-records/
END:VEVENT
END:VCALENDAR