BEGIN:VCALENDAR
VERSION:2.0
PRODID:-//eventon.com NONSGML v1.0//EN
CALSCALE:GREGORIAN
METHOD:PUBLISH
BEGIN:VEVENT
UID:69e5eb11c1f98
DTSTAMP:20260420T110001
DTSTART:20220605T150000Z
DTEND:20220606T015000Z
TZID:Europe/Berlin
LOCATION:
SUMMARY:Workshop for Electronic Music
DESCRIPTION:Gleb Lasarew bietet ein Treffen und Workshop zu elektronischen Musikproduktion in russischer/ukrainischer Sprache für Geflüchtete aus der Ukraine. В рамках Ost Anders Festival 2022 мы приглашаем вас на встречу и воркшоп об электронной музыке с известным нюрнбергским продюсером и саунд-дизайнером Глебом Лазаревым (родом из Харькова). www.gleb-lasarew.com Глеб расскажет вам об[..]\nhttps://ostanders.de/events/workshop-music-refugees/
URL:https://ostanders.de/events/workshop-music-refugees/
END:VEVENT
END:VCALENDAR