BEGIN:VCALENDAR
VERSION:2.0
PRODID:-//eventon.com NONSGML v1.0//EN
CALSCALE:GREGORIAN
METHOD:PUBLISH
BEGIN:VEVENT
UID:69e5f0b2b9200
DTSTAMP:20260420T112402
DTSTART:20200424T190000Z
DTEND:20200424T200000Z
TZID:UTC
LOCATION:
SUMMARY:RUSSIAN POETRY SLAM
DESCRIPTION:Russian Poetry Slam Europe Online Mastership // 24-26.04.2020 with Максуд Кязимов (Maksud Kazimov)\,  Игорь Губарев (Igor Gubarev)\,  Natali Khmelova\,  Ilja Budnizkij\,  Stanislav Zrajaev\,  Stanislav Berlin\,  Marat Trusov\,  Алёна Шатц\,  Julia Vilianen\,  Julia Lebedeva\,  Ewa Isztwan\,  Angelika Astakhova\,  Женя Маркова\,  Julie Savchenko\,  Vaha Candolucky 1. SEMIFINAL : 24.04 | 2. SEMIFINAL[..]\nhttps://ostanders.de/events/russian-poetry-slam/
URL:https://ostanders.de/events/russian-poetry-slam/
END:VEVENT
END:VCALENDAR