BEGIN:VCALENDAR
VERSION:2.0
PRODID:-//eventon.com NONSGML v1.0//EN
CALSCALE:GREGORIAN
METHOD:PUBLISH
BEGIN:VEVENT
UID:69e9e4af648c7
DTSTAMP:20260423T112151
DTSTART:20200913T154500Z
DTEND:20200913T050000Z
TZID:Pacific/Midway
LOCATION:
SUMMARY:VZLETNAYA ALMATY JAM
DESCRIPTION:A fusionistic jam by young Almaty musicians @ Vzletnaya Art Space This event was supported by the german Fonds Soziokultur www.fonds-soziokultur.de\nhttps://ostanders.de/events/vzletnaya/var/event_access
URL:https://ostanders.de/events/vzletnaya/var/event_access
END:VEVENT
END:VCALENDAR