BEGIN:VCALENDAR
VERSION:2.0
PRODID:-//eventon.com NONSGML v1.0//EN
CALSCALE:GREGORIAN
METHOD:PUBLISH
BEGIN:VEVENT
UID:69e5ee21ce7bb
DTSTAMP:20260420T111305
DTSTART:20200912T174500Z
DTEND:20200912T070000Z
TZID:Pacific/Midway
LOCATION:
SUMMARY:Nasia from Asia
DESCRIPTION:Nasiafromasia is a young singer and a songwriter based in Almaty\,  Kazakhstan. After graduating from music academy in Milan\,  nasia has started her career 3 years ago by singing in jazz clubs at her hometown\,  Almaty. Recently singer has released her debut single “Thirsty” and EP “Moya Alma-Ata” with popular[..]\nhttps://ostanders.de
URL:https://ostanders.de
END:VEVENT
END:VCALENDAR