BEGIN:VCALENDAR
VERSION:2.0
PRODID:-//eventon.com NONSGML v1.0//EN
CALSCALE:GREGORIAN
METHOD:PUBLISH
BEGIN:VEVENT
UID:69e5f193a6c89
DTSTAMP:20260420T112747
DTSTART:20200918T190000Z
DTEND:20200918T210000Z
TZID:UTC
LOCATION:
SUMMARY:Russian Poetry Slam Summer 2020
DESCRIPTION:Poetry Slam online in Russian Language (Livestream) Темы полуфиналов (3 раунда по макс. 5 минут) 1) Свободная тема / Визитная Карточка 2) &#8220;Гравитация&#8221; 3) &#8220;Я знаю\,  что вы делали прошлым летом&#8221;\nhttps://ostanders.de/events/summer-poetry-slam/var/event_access
URL:https://ostanders.de/events/summer-poetry-slam/var/event_access
END:VEVENT
END:VCALENDAR